BEGIN:VCALENDAR
VERSION:2.0
PRODID:-//FF Krimml - ECPv6.15.20//NONSGML v1.0//EN
CALSCALE:GREGORIAN
METHOD:PUBLISH
X-ORIGINAL-URL:https://www.ffkrimml.at
X-WR-CALDESC:Veranstaltungen für FF Krimml
REFRESH-INTERVAL;VALUE=DURATION:PT1H
X-Robots-Tag:noindex
X-PUBLISHED-TTL:PT1H
BEGIN:VTIMEZONE
TZID:Europe/Berlin
BEGIN:DAYLIGHT
TZOFFSETFROM:+0100
TZOFFSETTO:+0200
TZNAME:CEST
DTSTART:20240331T010000
END:DAYLIGHT
BEGIN:STANDARD
TZOFFSETFROM:+0200
TZOFFSETTO:+0100
TZNAME:CET
DTSTART:20241027T010000
END:STANDARD
BEGIN:DAYLIGHT
TZOFFSETFROM:+0100
TZOFFSETTO:+0200
TZNAME:CEST
DTSTART:20250330T010000
END:DAYLIGHT
BEGIN:STANDARD
TZOFFSETFROM:+0200
TZOFFSETTO:+0100
TZNAME:CET
DTSTART:20251026T010000
END:STANDARD
BEGIN:DAYLIGHT
TZOFFSETFROM:+0100
TZOFFSETTO:+0200
TZNAME:CEST
DTSTART:20260329T010000
END:DAYLIGHT
BEGIN:STANDARD
TZOFFSETFROM:+0200
TZOFFSETTO:+0100
TZNAME:CET
DTSTART:20261025T010000
END:STANDARD
END:VTIMEZONE
BEGIN:VEVENT
DTSTART;TZID=Europe/Berlin:20250524T160000
DTEND;TZID=Europe/Berlin:20250525T020000
DTSTAMP:20260419T234445
CREATED:20241012T081745Z
LAST-MODIFIED:20250715T173029Z
UID:10000001-1748102400-1748138400@www.ffkrimml.at
SUMMARY:125 Jahre Feuerwehr Krimml & Einweihung Feuerwehrhaus
DESCRIPTION: 
URL:https://www.ffkrimml.at/event/125-jahre-feuerwehr-krimml/
LOCATION:Feuerwehr Krimml\, Oberkrimml 203\, Krimml\, 5743\, Austria
CATEGORIES:Veranstaltungen
ATTACH;FMTTYPE=image/png:https://www.ffkrimml.at/wp-content/uploads/2024/10/Postwurf-A4-e1744356404935.png
END:VEVENT
END:VCALENDAR